BEGIN:VCALENDAR
VERSION:2.0
PRODID:-//Szórakozz Kaposvár - ECPv6.0.2//NONSGML v1.0//EN
CALSCALE:GREGORIAN
METHOD:PUBLISH
X-WR-CALNAME:Szórakozz Kaposvár
X-ORIGINAL-URL:https://szorakozz.kaposvar.hu
X-WR-CALDESC:Events for Szórakozz Kaposvár
REFRESH-INTERVAL;VALUE=DURATION:PT1H
X-Robots-Tag:noindex
X-PUBLISHED-TTL:PT1H
BEGIN:VTIMEZONE
TZID:Europe/Budapest
BEGIN:DAYLIGHT
TZOFFSETFROM:+0100
TZOFFSETTO:+0200
TZNAME:CEST
DTSTART:20260329T010000
END:DAYLIGHT
BEGIN:STANDARD
TZOFFSETFROM:+0200
TZOFFSETTO:+0100
TZNAME:CET
DTSTART:20261025T010000
END:STANDARD
END:VTIMEZONE
BEGIN:VEVENT
DTSTART;TZID=Europe/Budapest:20260321T100000
DTEND;TZID=Europe/Budapest:20260430T180000
DTSTAMP:20260421T105553
CREATED:20260312T140403Z
LAST-MODIFIED:20260414T103220Z
UID:16098-1774087200-1777572000@szorakozz.kaposvar.hu
SUMMARY:...mint az út álma/PAtó Károly grafikusművész kiállítása-Megnyitó
DESCRIPTION:…mint az út álmaPató Károly grafikusművész kiállítása2026.03.21. – 04.25.\nMEGNYITÓ / 2026.03.21. 14.00A kiállítást megnyitja / Dr. Géger Melinda művészettörténészZenei közreműködő / Dobák Katalin\nHELYSZÍN / Vaszary Képtár – Agóra I. emelet7400 Kaposvár\, Nagy Imre tér 2.\n\nA kiállítás megtekinthető:szerdától péntekig 10.00 – 18.00 óráig\,szombat 10:00 – 16:00 óráig....A látogatók részvételükkel elfogadják\, hogy a programok során hang- és képfelvételek készülnek\, amelyeket a Csiky Gergely Színház és Kulturális Központ és a Vaszary Képtár felületein promóciós céllal felhasználhatóak.A programváltoztatás jogát fenntartjuk!
URL:https://szorakozz.kaposvar.hu/esemeny/mint-az-ut-alma-pato-karoly-grafikusmuvesz-kiallitasa-megnyito/2026-03-21/
LOCATION:Vaszary képtár\, Nagy Imre Tér 2.\, Kaposvár\, 7400\, Magyarország
CATEGORIES:Kiállítás
ATTACH;FMTTYPE=image/jpeg:https://szorakozz.kaposvar.hu/wp-content/uploads/2026/03/651328523_1255059963397522_7862899360960568189_n.jpg
END:VEVENT
BEGIN:VEVENT
DTSTART;TZID=Europe/Budapest:20260417T170000
DTEND;TZID=Europe/Budapest:20260417T183600
DTSTAMP:20260421T105553
CREATED:20260414T102003Z
LAST-MODIFIED:20260414T102003Z
UID:16363-1776445200-1776450960@szorakozz.kaposvar.hu
SUMMARY:Tyúk
DESCRIPTION:
URL:https://szorakozz.kaposvar.hu/esemeny/tyuk/
LOCATION:Kaposvár Noszlopy Gáspár utca 1.\, Noszlopy Gáspár utca 1.\, Kaposvár\, Somogy\, 7400\, Magyarország
CATEGORIES:Mozi
ATTACH;FMTTYPE=image/jpeg:https://szorakozz.kaposvar.hu/wp-content/uploads/cover/fc/2f/4c/f9066e963758e36815a25a9115c04bcc08.jpg
ORGANIZER;CN="Sziv%C3%A1rv%C3%A1ny%20Kult%C3%BArpalota":MAILTO: info@szivarvanymozi.hu
END:VEVENT
BEGIN:VEVENT
DTSTART;TZID=Europe/Budapest:20260417T190000
DTEND;TZID=Europe/Budapest:20260417T210400
DTSTAMP:20260421T105553
CREATED:20260414T102043Z
LAST-MODIFIED:20260414T102043Z
UID:16377-1776452400-1776459840@szorakozz.kaposvar.hu
SUMMARY:Itt érzem magam otthon
DESCRIPTION:
URL:https://szorakozz.kaposvar.hu/esemeny/itt-erzem-magam-otthon-21/
LOCATION:Kaposvár Noszlopy Gáspár utca 1.\, Noszlopy Gáspár utca 1.\, Kaposvár\, Somogy\, 7400\, Magyarország
CATEGORIES:Mozi
ATTACH;FMTTYPE=image/jpeg:https://szorakozz.kaposvar.hu/wp-content/uploads/cover/e3/d8/f3/b13d1f623140a8700bd148f4e161c05e2e.jpg
ORGANIZER;CN="Sziv%C3%A1rv%C3%A1ny%20Kult%C3%BArpalota":MAILTO: info@szivarvanymozi.hu
END:VEVENT
END:VCALENDAR