BEGIN:VCALENDAR
VERSION:2.0
PRODID:-//Szórakozz Kaposvár - ECPv6.0.2//NONSGML v1.0//EN
CALSCALE:GREGORIAN
METHOD:PUBLISH
X-WR-CALNAME:Szórakozz Kaposvár
X-ORIGINAL-URL:https://szorakozz.kaposvar.hu
X-WR-CALDESC:Events for Szórakozz Kaposvár
REFRESH-INTERVAL;VALUE=DURATION:PT1H
X-Robots-Tag:noindex
X-PUBLISHED-TTL:PT1H
BEGIN:VTIMEZONE
TZID:Europe/Budapest
BEGIN:DAYLIGHT
TZOFFSETFROM:+0100
TZOFFSETTO:+0200
TZNAME:CEST
DTSTART:20260329T010000
END:DAYLIGHT
BEGIN:STANDARD
TZOFFSETFROM:+0200
TZOFFSETTO:+0100
TZNAME:CET
DTSTART:20261025T010000
END:STANDARD
END:VTIMEZONE
BEGIN:VEVENT
DTSTART;TZID=Europe/Budapest:20260321T100000
DTEND;TZID=Europe/Budapest:20260430T180000
DTSTAMP:20260421T182800
CREATED:20260312T140403Z
LAST-MODIFIED:20260414T103220Z
UID:16098-1774087200-1777572000@szorakozz.kaposvar.hu
SUMMARY:...mint az út álma/PAtó Károly grafikusművész kiállítása-Megnyitó
DESCRIPTION:…mint az út álmaPató Károly grafikusművész kiállítása2026.03.21. – 04.25.\nMEGNYITÓ / 2026.03.21. 14.00A kiállítást megnyitja / Dr. Géger Melinda művészettörténészZenei közreműködő / Dobák Katalin\nHELYSZÍN / Vaszary Képtár – Agóra I. emelet7400 Kaposvár\, Nagy Imre tér 2.\n\nA kiállítás megtekinthető:szerdától péntekig 10.00 – 18.00 óráig\,szombat 10:00 – 16:00 óráig....A látogatók részvételükkel elfogadják\, hogy a programok során hang- és képfelvételek készülnek\, amelyeket a Csiky Gergely Színház és Kulturális Központ és a Vaszary Képtár felületein promóciós céllal felhasználhatóak.A programváltoztatás jogát fenntartjuk!
URL:https://szorakozz.kaposvar.hu/esemeny/mint-az-ut-alma-pato-karoly-grafikusmuvesz-kiallitasa-megnyito/2026-03-21/
LOCATION:Vaszary képtár\, Nagy Imre Tér 2.\, Kaposvár\, 7400\, Magyarország
CATEGORIES:Kiállítás
ATTACH;FMTTYPE=image/jpeg:https://szorakozz.kaposvar.hu/wp-content/uploads/2026/03/651328523_1255059963397522_7862899360960568189_n.jpg
END:VEVENT
BEGIN:VEVENT
DTSTART;TZID=Europe/Budapest:20260421T170000
DTEND;TZID=Europe/Budapest:20260421T183300
DTSTAMP:20260421T182800
CREATED:20260414T102029Z
LAST-MODIFIED:20260414T102029Z
UID:16373-1776790800-1776796380@szorakozz.kaposvar.hu
SUMMARY:Magyar menyegző
DESCRIPTION:
URL:https://szorakozz.kaposvar.hu/esemeny/magyar-menyegzo-14/
LOCATION:Kaposvár Noszlopy Gáspár utca 1.\, Noszlopy Gáspár utca 1.\, Kaposvár\, Somogy\, 7400\, Magyarország
CATEGORIES:Mozi
ATTACH;FMTTYPE=image/jpeg:https://szorakozz.kaposvar.hu/wp-content/uploads/cover/97/24/f4/499a70a3fefbe68cb7f574408d9792f8e2.jpg
ORGANIZER;CN="Sziv%C3%A1rv%C3%A1ny%20Kult%C3%BArpalota":MAILTO: info@szivarvanymozi.hu
END:VEVENT
BEGIN:VEVENT
DTSTART;TZID=Europe/Budapest:20260421T180000
DTEND;TZID=Europe/Budapest:20260421T193000
DTSTAMP:20260421T182800
CREATED:20260408T071843Z
LAST-MODIFIED:20260408T071843Z
UID:16332-1776794400-1776799800@szorakozz.kaposvar.hu
SUMMARY:Tavaszi dallamok aranyfuvolán
DESCRIPTION:
URL:https://szorakozz.kaposvar.hu/esemeny/tavaszi-dallamok-aranyfuvolan/
LOCATION:Kaposvári Liszt Ferenc Zeneiskola\, Kossuth Lajos u. 21.\, Kaposvár\, Somogy\, 7400\, Magyarország
CATEGORIES:Koncert,Zene
ATTACH;FMTTYPE=image/jpeg:https://szorakozz.kaposvar.hu/wp-content/uploads/2026/04/665998655_1594624775999601_4431304804776595405_n.jpg
END:VEVENT
BEGIN:VEVENT
DTSTART;TZID=Europe/Budapest:20260421T190000
DTEND;TZID=Europe/Budapest:20260421T205300
DTSTAMP:20260421T182800
CREATED:20260414T102100Z
LAST-MODIFIED:20260414T102100Z
UID:16383-1776798000-1776804780@szorakozz.kaposvar.hu
SUMMARY:Bocs kicsim
DESCRIPTION:
URL:https://szorakozz.kaposvar.hu/esemeny/bocs-kicsim/
LOCATION:Kaposvár Noszlopy Gáspár utca 1.\, Noszlopy Gáspár utca 1.\, Kaposvár\, Somogy\, 7400\, Magyarország
CATEGORIES:Mozi
ATTACH;FMTTYPE=image/jpeg:https://szorakozz.kaposvar.hu/wp-content/uploads/cover/2c/a9/b4/f8f51b6e64f44bbebd0253fb313f3a0cd0.jpg
ORGANIZER;CN="Sziv%C3%A1rv%C3%A1ny%20Kult%C3%BArpalota":MAILTO: info@szivarvanymozi.hu
END:VEVENT
BEGIN:VEVENT
DTSTART;TZID=Europe/Budapest:20260422T170000
DTEND;TZID=Europe/Budapest:20260422T183600
DTSTAMP:20260421T182800
CREATED:20260414T102011Z
LAST-MODIFIED:20260414T102011Z
UID:16366-1776877200-1776882960@szorakozz.kaposvar.hu
SUMMARY:Tyúk
DESCRIPTION:
URL:https://szorakozz.kaposvar.hu/esemeny/tyuk-3/
LOCATION:Kaposvár Noszlopy Gáspár utca 1.\, Noszlopy Gáspár utca 1.\, Kaposvár\, Somogy\, 7400\, Magyarország
CATEGORIES:Mozi
ATTACH;FMTTYPE=image/jpeg:https://szorakozz.kaposvar.hu/wp-content/uploads/cover/fc/2f/4c/f9066e963758e36815a25a9115c04bcc08.jpg
ORGANIZER;CN="Sziv%C3%A1rv%C3%A1ny%20Kult%C3%BArpalota":MAILTO: info@szivarvanymozi.hu
END:VEVENT
BEGIN:VEVENT
DTSTART;TZID=Europe/Budapest:20260423T083000
DTEND;TZID=Europe/Budapest:20260423T140000
DTSTAMP:20260421T182800
CREATED:20260417T130312Z
LAST-MODIFIED:20260417T130312Z
UID:16466-1776933000-1776952800@szorakozz.kaposvar.hu
SUMMARY:Lányok napja
DESCRIPTION:
URL:https://szorakozz.kaposvar.hu/esemeny/lanyok-napja/
LOCATION:Kaposvár Guba Sándor utca 40.\, Guba Sándor utca 40.\, Kaposvár\, Somogy\, 7400\, Magyarország
CATEGORIES:Foglalkozás
ATTACH;FMTTYPE=image/jpeg:https://szorakozz.kaposvar.hu/wp-content/uploads/2026/04/666982948_1276799071223489_1563345891439799695_n.jpg
END:VEVENT
BEGIN:VEVENT
DTSTART;TZID=Europe/Budapest:20260423T100000
DTEND;TZID=Europe/Budapest:20260423T110000
DTSTAMP:20260421T182800
CREATED:20260417T115659Z
LAST-MODIFIED:20260417T115659Z
UID:16454-1776938400-1776942000@szorakozz.kaposvar.hu
SUMMARY:"Ballagó" irodalmi séta Kaposvár belvárosában
DESCRIPTION:
URL:https://szorakozz.kaposvar.hu/esemeny/ballago-irodalmi-seta-kaposvar-belvarosaban/
LOCATION:Kaposvár\, Magyarország
CATEGORIES:Idegenvezetés,Irodalom,Ismeretterjesztő,Szabadtéri program
ATTACH;FMTTYPE=image/jpeg:https://szorakozz.kaposvar.hu/wp-content/uploads/2026/04/672668734_1283789917177585_114115444266323383_n.jpg
ORGANIZER;CN="Berzsenyi%20D%C3%A1niel%20Irodalmi%20%C3%A9s%20M%C5%B1v%C3%A9szeti%20T%C3%A1rsulat":MAILTO:berzsenyitarsasagkaposvar@gmail.com
END:VEVENT
BEGIN:VEVENT
DTSTART;TZID=Europe/Budapest:20260423T170000
DTEND;TZID=Europe/Budapest:20260423T180000
DTSTAMP:20260421T182800
CREATED:20260420T093534Z
LAST-MODIFIED:20260420T093534Z
UID:16480-1776963600-1776967200@szorakozz.kaposvar.hu
SUMMARY:Vokális és zeneismeret-Tanszak Önálló Est
DESCRIPTION:
URL:https://szorakozz.kaposvar.hu/esemeny/vokalis-es-zeneismeret-tanszak-onallo-est/
LOCATION:Kaposvári Liszt Ferenc Zeneiskola\, Kossuth Lajos u. 21.\, Kaposvár\, Somogy\, 7400\, Magyarország
CATEGORIES:Koncert,Zene
ATTACH;FMTTYPE=image/jpeg:https://szorakozz.kaposvar.hu/wp-content/uploads/2026/04/673555256_1604194645042614_4991757127580549308_n.jpg
END:VEVENT
BEGIN:VEVENT
DTSTART;TZID=Europe/Budapest:20260423T170000
DTEND;TZID=Europe/Budapest:20260423T190700
DTSTAMP:20260421T182800
CREATED:20260414T102103Z
LAST-MODIFIED:20260414T102103Z
UID:16385-1776963600-1776971220@szorakozz.kaposvar.hu
SUMMARY:Michael
DESCRIPTION:
URL:https://szorakozz.kaposvar.hu/esemeny/michael/
LOCATION:Kaposvár Noszlopy Gáspár utca 1.\, Noszlopy Gáspár utca 1.\, Kaposvár\, Somogy\, 7400\, Magyarország
CATEGORIES:Mozi
ATTACH;FMTTYPE=image/jpeg:https://szorakozz.kaposvar.hu/wp-content/uploads/cover/79/40/52/593cfebcae12ca79c21201f568ac78e758.jpg
ORGANIZER;CN="Sziv%C3%A1rv%C3%A1ny%20Kult%C3%BArpalota":MAILTO: info@szivarvanymozi.hu
END:VEVENT
BEGIN:VEVENT
DTSTART;TZID=Europe/Budapest:20260423T190000
DTEND;TZID=Europe/Budapest:20260423T210000
DTSTAMP:20260421T182800
CREATED:20260113T135744Z
LAST-MODIFIED:20260113T135744Z
UID:15407-1776970800-1776978000@szorakozz.kaposvar.hu
SUMMARY:Mondjad\, Atikám!
DESCRIPTION:Mit jelent nekünk József Attila? Ismerjük az életét. Van kedvenc versünk tőle. Életszakaszainkban újra- és újraértelmezzük sorait. De ritkán gondolkozunk el azon\, hogy milyen pusztító szenvedély és szeretni vágyás élt benne. „József Attila az őrület erejével\, egy-egy szavával néha mélyebbre nyúlt\, mint bárki más előtte” – írja róla naplójában Márai Sándor. Ebből a mélységből merít Vecsei H. Miklós\, innen próbálja megmutatni a költő életútját\, szerelmeit és versrészleteit. \nA darab 2018 óta fut a Vígszínház repertoárján\, amelynek utaztatható verziójában a Platon Karataev frontembere\, Balla Gergely is szerepel. \nVecsei H. Miklós (qjúb) \nBalla Gergely (platon karataev) \nAz előadás hossza 95 perc szünet nélkül. \nAz előadás után közönségtalálkozót tartunk.
URL:https://szorakozz.kaposvar.hu/esemeny/mondjad-atikam/
LOCATION:Hotel Dorottya\, Széchenyi tér 8.\, Kaposvár\, Somogy\, 7400\, Magyarország
CATEGORIES:Előadás,Színház
ATTACH;FMTTYPE=image/jpeg:https://szorakozz.kaposvar.hu/wp-content/uploads/2026/01/612613241_25837831225830035_4481290618374019660_n.jpg
END:VEVENT
BEGIN:VEVENT
DTSTART;TZID=Europe/Budapest:20260423T193000
DTEND;TZID=Europe/Budapest:20260423T220200
DTSTAMP:20260421T182800
CREATED:20260414T102057Z
LAST-MODIFIED:20260414T102057Z
UID:16382-1776972600-1776981720@szorakozz.kaposvar.hu
SUMMARY:A Kreml mágusa
DESCRIPTION:
URL:https://szorakozz.kaposvar.hu/esemeny/a-kreml-magusa-3/
LOCATION:Kaposvár Noszlopy Gáspár utca 1.\, Noszlopy Gáspár utca 1.\, Kaposvár\, Somogy\, 7400\, Magyarország
CATEGORIES:Mozi
ATTACH;FMTTYPE=image/jpeg:https://szorakozz.kaposvar.hu/wp-content/uploads/cover/f1/f6/5d/1d2866a40a2a154006827b00a915dab0a5.jpg
ORGANIZER;CN="Sziv%C3%A1rv%C3%A1ny%20Kult%C3%BArpalota":MAILTO: info@szivarvanymozi.hu
END:VEVENT
BEGIN:VEVENT
DTSTART;TZID=Europe/Budapest:20260424T170000
DTEND;TZID=Europe/Budapest:20260424T183600
DTSTAMP:20260421T182800
CREATED:20260414T102014Z
LAST-MODIFIED:20260414T102014Z
UID:16367-1777050000-1777055760@szorakozz.kaposvar.hu
SUMMARY:Tyúk
DESCRIPTION:
URL:https://szorakozz.kaposvar.hu/esemeny/tyuk-4/
LOCATION:Kaposvár Noszlopy Gáspár utca 1.\, Noszlopy Gáspár utca 1.\, Kaposvár\, Somogy\, 7400\, Magyarország
CATEGORIES:Mozi
ATTACH;FMTTYPE=image/jpeg:https://szorakozz.kaposvar.hu/wp-content/uploads/cover/fc/2f/4c/f9066e963758e36815a25a9115c04bcc08.jpg
ORGANIZER;CN="Sziv%C3%A1rv%C3%A1ny%20Kult%C3%BArpalota":MAILTO: info@szivarvanymozi.hu
END:VEVENT
BEGIN:VEVENT
DTSTART;TZID=Europe/Budapest:20260424T190000
DTEND;TZID=Europe/Budapest:20260424T210700
DTSTAMP:20260421T182800
CREATED:20260414T102108Z
LAST-MODIFIED:20260414T102108Z
UID:16387-1777057200-1777064820@szorakozz.kaposvar.hu
SUMMARY:Michael
DESCRIPTION:
URL:https://szorakozz.kaposvar.hu/esemeny/michael-2/
LOCATION:Kaposvár Noszlopy Gáspár utca 1.\, Noszlopy Gáspár utca 1.\, Kaposvár\, Somogy\, 7400\, Magyarország
CATEGORIES:Mozi
ATTACH;FMTTYPE=image/jpeg:https://szorakozz.kaposvar.hu/wp-content/uploads/cover/79/40/52/593cfebcae12ca79c21201f568ac78e758.jpg
ORGANIZER;CN="Sziv%C3%A1rv%C3%A1ny%20Kult%C3%BArpalota":MAILTO: info@szivarvanymozi.hu
END:VEVENT
BEGIN:VEVENT
DTSTART;TZID=Europe/Budapest:20260424T190000
DTEND;TZID=Europe/Budapest:20260424T220000
DTSTAMP:20260421T182800
CREATED:20260204T134438Z
LAST-MODIFIED:20260204T134438Z
UID:15637-1777057200-1777068000@szorakozz.kaposvar.hu
SUMMARY:Hegedűs a háztetőn
DESCRIPTION:
URL:https://szorakozz.kaposvar.hu/esemeny/hegedus-a-hazteton-9/
LOCATION:Kaposvár Rákóczi tér 1\, Rákóczi tér 1\, Kaposvár\, Somogy\, 7400\, Magyarország
CATEGORIES:Színház
ATTACH;FMTTYPE=image/jpeg:https://szorakozz.kaposvar.hu/wp-content/uploads/cover/32/91/63/bb1046a138e26c6453dd2e231591595e23.jpg
ORGANIZER;CN="Csiky%20Gergely%20Sz%C3%ADnh%C3%A1z":MAILTO:jegyiroda@csiky.hu
END:VEVENT
BEGIN:VEVENT
DTSTART;TZID=Europe/Budapest:20260424T200000
DTEND;TZID=Europe/Budapest:20260424T230000
DTSTAMP:20260421T182800
CREATED:20260220T101232Z
LAST-MODIFIED:20260220T101232Z
UID:15871-1777060800-1777071600@szorakozz.kaposvar.hu
SUMMARY:Pál Utcai Fiúk-koncert
DESCRIPTION:A garázsból indulva\, sportcsarnokokat megtöltve\, mégis örökre a klubokhoz hűen – a Pál Utcai Fiúk története 43 éve íródik\, és ma is ugyanazzal a lendülettel szól minden egyes dal. A zenekar igazi terepe mindig is a kisebb klubok világa volt\, ahol a lehető legközelebb lehetnek a hűséges és imádott közönségükhöz.Generációk nőttek fel a PUF dalain\, de egy dolog mit sem változott: a koncertek energiája. A zenekar tagjai mai napig úgy érzik\, hogy életük legszebb pillanatait a színpadon élik át – és ezt a közönség minden alkalommal érzi.Túl több mint 1500 koncerten\, több mint négy évtizeddel a hátuk mögött is ugyanaz a vágy hajtja őket: újra és újra találkozni azokkal\, akikért az egész elkezdődött.Egy PUF-koncertben egyszerűen nem lehet csalódni\, pláne 2026-ban\, ami a következő mérföldköve lehet a zenekarnak.
URL:https://szorakozz.kaposvar.hu/esemeny/pal-utcai-fiuk-koncert/
LOCATION:K-Központ\, Kossuth Lajos utca 9.\, Kaposvár\, Somogy\, 7400\, Magyarország
CATEGORIES:Koncert
ATTACH;FMTTYPE=image/jpeg:https://szorakozz.kaposvar.hu/wp-content/uploads/2026/02/628421153_1431044415047254_1749568641211464181_n-1.jpg
END:VEVENT
BEGIN:VEVENT
DTSTART;TZID=Europe/Budapest:20260424T200000
DTEND;TZID=Europe/Budapest:20260424T230000
DTSTAMP:20260421T182800
CREATED:20260312T123452Z
LAST-MODIFIED:20260312T123452Z
UID:16065-1777060800-1777071600@szorakozz.kaposvar.hu
SUMMARY:TRIÁSZ koncert
DESCRIPTION:Triász koncert Kaposváron!kapunyitás: 20:00\nbelépő:elővétel: 5.000.- Fthelyszín: 6.000.- Ft\nJegyek hamarosan.
URL:https://szorakozz.kaposvar.hu/esemeny/triasz-koncert/
LOCATION:Hang-Ár\, Noszlopy Gáspár u. 3.\, Kaposvár\, Somogy\, 7400
CATEGORIES:Koncert
ATTACH;FMTTYPE=image/jpeg:https://szorakozz.kaposvar.hu/wp-content/uploads/2026/03/649968160_1519270790206717_5656813241364542884_n.jpg
ORGANIZER;CN="Hang-%C3%81r%20Music%20Pub":MAILTO:hangarmusicclub@gmail.com
END:VEVENT
BEGIN:VEVENT
DTSTART;TZID=Europe/Budapest:20260425T093000
DTEND;TZID=Europe/Budapest:20260425T110000
DTSTAMP:20260421T182800
CREATED:20260420T124658Z
LAST-MODIFIED:20260420T124658Z
UID:16486-1777109400-1777114800@szorakozz.kaposvar.hu
SUMMARY:LEGO építés és animáció
DESCRIPTION:
URL:https://szorakozz.kaposvar.hu/esemeny/lego-epites-es-animacio-2/
LOCATION:Kaposvár Nagy Imre tér 2.\, Nagy Imre tér 2.\, Kaposvár\, Somogy\, 7400\, Magyarország
CATEGORIES:Családi,Ismeretterjesztő,Technológia
ATTACH;FMTTYPE=image/jpeg:https://szorakozz.kaposvar.hu/wp-content/uploads/2026/04/670424665_946664638083737_6630990240759940212_n.jpg
ORGANIZER;CN="Digit%C3%A1lis%20Tud%C3%A1sk%C3%B6zpont%20Kaposv%C3%A1r":MAILTO:kaposvar@digitalis-tudaskozpont.hu
END:VEVENT
BEGIN:VEVENT
DTSTART;TZID=Europe/Budapest:20260425T110000
DTEND;TZID=Europe/Budapest:20260425T150000
DTSTAMP:20260421T182800
CREATED:20260420T102740Z
LAST-MODIFIED:20260420T102740Z
UID:16483-1777114800-1777129200@szorakozz.kaposvar.hu
SUMMARY:Finisszázs& Linónyomda workshop
DESCRIPTION:
URL:https://szorakozz.kaposvar.hu/esemeny/finisszazs-linonyomda-workshop/
LOCATION:Vaszary képtár\, Nagy Imre Tér 2.\, Kaposvár\, 7400\, Magyarország
ATTACH;FMTTYPE=image/jpeg:https://szorakozz.kaposvar.hu/wp-content/uploads/2026/04/671679712_1283344863902365_3546052732628889695_n.jpg
END:VEVENT
BEGIN:VEVENT
DTSTART;TZID=Europe/Budapest:20260425T140000
DTEND;TZID=Europe/Budapest:20260425T160000
DTSTAMP:20260421T182800
CREATED:20260420T124817Z
LAST-MODIFIED:20260420T124817Z
UID:16489-1777125600-1777132800@szorakozz.kaposvar.hu
SUMMARY:Nyuszifutam LEGO robotnyuszikkal
DESCRIPTION:
URL:https://szorakozz.kaposvar.hu/esemeny/nyuszifutam-lego-robotnyuszikkal-2/
LOCATION:Kaposvár Nagy Imre tér 2.\, Nagy Imre tér 2.\, Kaposvár\, Somogy\, 7400\, Magyarország
CATEGORIES:Családi,Robotika,Technológia
ATTACH;FMTTYPE=image/jpeg:https://szorakozz.kaposvar.hu/wp-content/uploads/2026/04/672410586_946661668084034_4493381962426364055_n.jpg
ORGANIZER;CN="Digit%C3%A1lis%20Tud%C3%A1sk%C3%B6zpont%20Kaposv%C3%A1r":MAILTO:kaposvar@digitalis-tudaskozpont.hu
END:VEVENT
BEGIN:VEVENT
DTSTART;TZID=Europe/Budapest:20260425T150000
DTEND;TZID=Europe/Budapest:20260425T180000
DTSTAMP:20260421T182800
CREATED:20260204T134439Z
LAST-MODIFIED:20260204T134439Z
UID:15638-1777129200-1777140000@szorakozz.kaposvar.hu
SUMMARY:Hegedűs a háztetőn
DESCRIPTION:
URL:https://szorakozz.kaposvar.hu/esemeny/hegedus-a-hazteton-10/
LOCATION:Kaposvár Rákóczi tér 1\, Rákóczi tér 1\, Kaposvár\, Somogy\, 7400\, Magyarország
CATEGORIES:Színház
ATTACH;FMTTYPE=image/jpeg:https://szorakozz.kaposvar.hu/wp-content/uploads/cover/32/91/63/bb1046a138e26c6453dd2e231591595e23.jpg
ORGANIZER;CN="Csiky%20Gergely%20Sz%C3%ADnh%C3%A1z":MAILTO:jegyiroda@csiky.hu
END:VEVENT
BEGIN:VEVENT
DTSTART;TZID=Europe/Budapest:20260425T170000
DTEND;TZID=Europe/Budapest:20260425T190000
DTSTAMP:20260421T182800
CREATED:20260324T130342Z
LAST-MODIFIED:20260324T130342Z
UID:16233-1777136400-1777143600@szorakozz.kaposvar.hu
SUMMARY:Süsü\, a sárkány kalandjai-zenés mesejáték
DESCRIPTION:
URL:https://szorakozz.kaposvar.hu/esemeny/susu-a-sarkany-kalandjai-zenes-mesejatek/
LOCATION:Roxínház\, Somssich P. utca 18.
CATEGORIES:Családi,Színház
ATTACH;FMTTYPE=image/jpeg:https://szorakozz.kaposvar.hu/wp-content/uploads/2026/03/654964947_1356969293129695_4286273462699567346_n.jpg
ORGANIZER;CN="Rox%C3%ADnh%C3%A1z":MAILTO:roxinhazinfo@gmail.com
END:VEVENT
BEGIN:VEVENT
DTSTART;TZID=Europe/Budapest:20260425T190000
DTEND;TZID=Europe/Budapest:20260425T210000
DTSTAMP:20260421T182800
CREATED:20260109T140324Z
LAST-MODIFIED:20260109T140324Z
UID:15332-1777143600-1777150800@szorakozz.kaposvar.hu
SUMMARY:ABBA SHOW
DESCRIPTION:Dancing Queen\, Money Money Money\, SOS\, Waterloo\, Mamma Mia\, Happy New Year\, Thank You For The Music\, The Winner Takes It All\, Fernando és még sok más! \nAz ABBA ABBORN együttes több mint 20 éve turnézik műsorával Európa-szerte\, és hatalmas sikert aratott. A francia televízióban összesen 70 millióan látták a műsorukat. Ez főleg a hitelességüknek köszönhető\, ami visszarepít a 70-es évekbe. A tökéletesre csiszolt show mellett lenyűgöző zenei tehetségükkel is elkápráztatnak. \nBüszkék az élő előadásmódjukra\, teljesen elektronikus kíséret nélkül\, csak basszusgitárral és dobokkal. Hangszereik a hangjuk\, amellyel a hangszínek csodálatra méltó spektrumát képesek elővarázsolni\, ami felejthetetlen zenei előadást eredményez. \nEredeti jelmezekre és kidolgozott koreográfiára is számíthatsz!
URL:https://szorakozz.kaposvar.hu/esemeny/abba-show/
LOCATION:Szivárvány Kultúrpalota\, Noszlopy Gáspár u. 1\, Kaposvár\, Somogy\, 7400\, Magyarország
CATEGORIES:Koncert
ATTACH;FMTTYPE=image/jpeg:https://szorakozz.kaposvar.hu/wp-content/uploads/2026/01/abba-show-original-248081.jpg
ORGANIZER;CN="Sziv%C3%A1rv%C3%A1ny%20Kult%C3%BArpalota":MAILTO: info@szivarvanymozi.hu
END:VEVENT
BEGIN:VEVENT
DTSTART;TZID=Europe/Budapest:20260425T193000
DTEND;TZID=Europe/Budapest:20260425T210000
DTSTAMP:20260421T182800
CREATED:20260409T104752Z
LAST-MODIFIED:20260409T104752Z
UID:16351-1777145400-1777150800@szorakozz.kaposvar.hu
SUMMARY:Orgona Koncert
DESCRIPTION:
URL:https://szorakozz.kaposvar.hu/esemeny/orgona-koncert/
LOCATION:Nagyboldogasszony Székesegyház\, Magyarország
CATEGORIES:Koncert
ATTACH;FMTTYPE=image/jpeg:https://szorakozz.kaposvar.hu/wp-content/uploads/2026/04/Szekesegyhaz-Bursics-Andras-2026-04-25.jpg
END:VEVENT
BEGIN:VEVENT
DTSTART;TZID=Europe/Budapest:20260426T130000
DTEND;TZID=Europe/Budapest:20260426T143800
DTSTAMP:20260421T182800
CREATED:20260414T102021Z
LAST-MODIFIED:20260414T102021Z
UID:16370-1777208400-1777214280@szorakozz.kaposvar.hu
SUMMARY:Super Mario Galaxis: A film
DESCRIPTION:
URL:https://szorakozz.kaposvar.hu/esemeny/super-mario-galaxis-a-film-10/
LOCATION:Kaposvár Noszlopy Gáspár utca 1.\, Noszlopy Gáspár utca 1.\, Kaposvár\, Somogy\, 7400\, Magyarország
CATEGORIES:Mozi
ATTACH;FMTTYPE=image/jpeg:https://szorakozz.kaposvar.hu/wp-content/uploads/cover/ee/41/25/9dbe6d0be794b7ae4d27d2cef62431790c.jpg
ORGANIZER;CN="Sziv%C3%A1rv%C3%A1ny%20Kult%C3%BArpalota":MAILTO: info@szivarvanymozi.hu
END:VEVENT
BEGIN:VEVENT
DTSTART;TZID=Europe/Budapest:20260426T150000
DTEND;TZID=Europe/Budapest:20260426T163300
DTSTAMP:20260421T182800
CREATED:20260414T102032Z
LAST-MODIFIED:20260414T102032Z
UID:16374-1777215600-1777221180@szorakozz.kaposvar.hu
SUMMARY:Magyar menyegző
DESCRIPTION:
URL:https://szorakozz.kaposvar.hu/esemeny/magyar-menyegzo-15/
LOCATION:Kaposvár Noszlopy Gáspár utca 1.\, Noszlopy Gáspár utca 1.\, Kaposvár\, Somogy\, 7400\, Magyarország
CATEGORIES:Mozi
ATTACH;FMTTYPE=image/jpeg:https://szorakozz.kaposvar.hu/wp-content/uploads/cover/97/24/f4/499a70a3fefbe68cb7f574408d9792f8e2.jpg
ORGANIZER;CN="Sziv%C3%A1rv%C3%A1ny%20Kult%C3%BArpalota":MAILTO: info@szivarvanymozi.hu
END:VEVENT
BEGIN:VEVENT
DTSTART;TZID=Europe/Budapest:20260426T150000
DTEND;TZID=Europe/Budapest:20260426T170000
DTSTAMP:20260421T182800
CREATED:20260204T134354Z
LAST-MODIFIED:20260204T134354Z
UID:15612-1777215600-1777222800@szorakozz.kaposvar.hu
SUMMARY:Aranylakodalom
DESCRIPTION:
URL:https://szorakozz.kaposvar.hu/esemeny/aranylakodalom-5/
LOCATION:Kaposvár Rákóczi tér 1\, Rákóczi tér 1\, Kaposvár\, Somogy\, 7400\, Magyarország
CATEGORIES:Színház
ATTACH;FMTTYPE=image/jpeg:https://szorakozz.kaposvar.hu/wp-content/uploads/cover/32/91/63/bb1046a138e26c6453dd2e231591595e23.jpg
ORGANIZER;CN="Csiky%20Gergely%20Sz%C3%ADnh%C3%A1z":MAILTO:jegyiroda@csiky.hu
END:VEVENT
BEGIN:VEVENT
DTSTART;TZID=Europe/Budapest:20260426T170000
DTEND;TZID=Europe/Budapest:20260426T190000
DTSTAMP:20260421T182800
CREATED:20260324T130506Z
LAST-MODIFIED:20260324T130506Z
UID:16236-1777222800-1777230000@szorakozz.kaposvar.hu
SUMMARY:Süsü\, a sárkány kalandjai-zenés mesejáték
DESCRIPTION:
URL:https://szorakozz.kaposvar.hu/esemeny/susu-a-sarkany-kalandjai-zenes-mesejatek-2/
LOCATION:Roxínház\, Somssich P. utca 18.
CATEGORIES:Családi,Színház
ATTACH;FMTTYPE=image/jpeg:https://szorakozz.kaposvar.hu/wp-content/uploads/2026/03/654964947_1356969293129695_4286273462699567346_n.jpg
ORGANIZER;CN="Rox%C3%ADnh%C3%A1z":MAILTO:roxinhazinfo@gmail.com
END:VEVENT
BEGIN:VEVENT
DTSTART;TZID=Europe/Budapest:20260426T170000
DTEND;TZID=Europe/Budapest:20260426T190700
DTSTAMP:20260421T182800
CREATED:20260414T102112Z
LAST-MODIFIED:20260414T102112Z
UID:16388-1777222800-1777230420@szorakozz.kaposvar.hu
SUMMARY:Michael
DESCRIPTION:
URL:https://szorakozz.kaposvar.hu/esemeny/michael-3/
LOCATION:Kaposvár Noszlopy Gáspár utca 1.\, Noszlopy Gáspár utca 1.\, Kaposvár\, Somogy\, 7400\, Magyarország
CATEGORIES:Mozi
ATTACH;FMTTYPE=image/jpeg:https://szorakozz.kaposvar.hu/wp-content/uploads/cover/79/40/52/593cfebcae12ca79c21201f568ac78e758.jpg
ORGANIZER;CN="Sziv%C3%A1rv%C3%A1ny%20Kult%C3%BArpalota":MAILTO: info@szivarvanymozi.hu
END:VEVENT
BEGIN:VEVENT
DTSTART;TZID=Europe/Budapest:20260426T190000
DTEND;TZID=Europe/Budapest:20260426T210000
DTSTAMP:20260421T182800
CREATED:20260204T134356Z
LAST-MODIFIED:20260204T134356Z
UID:15613-1777230000-1777237200@szorakozz.kaposvar.hu
SUMMARY:Aranylakodalom
DESCRIPTION:
URL:https://szorakozz.kaposvar.hu/esemeny/aranylakodalom-6/
LOCATION:Kaposvár Rákóczi tér 1\, Rákóczi tér 1\, Kaposvár\, Somogy\, 7400\, Magyarország
CATEGORIES:Színház
ATTACH;FMTTYPE=image/jpeg:https://szorakozz.kaposvar.hu/wp-content/uploads/cover/32/91/63/bb1046a138e26c6453dd2e231591595e23.jpg
ORGANIZER;CN="Csiky%20Gergely%20Sz%C3%ADnh%C3%A1z":MAILTO:jegyiroda@csiky.hu
END:VEVENT
BEGIN:VEVENT
DTSTART;TZID=Europe/Budapest:20260426T193000
DTEND;TZID=Europe/Budapest:20260426T213400
DTSTAMP:20260421T182800
CREATED:20260414T102046Z
LAST-MODIFIED:20260414T102046Z
UID:16378-1777231800-1777239240@szorakozz.kaposvar.hu
SUMMARY:Itt érzem magam otthon
DESCRIPTION:
URL:https://szorakozz.kaposvar.hu/esemeny/itt-erzem-magam-otthon-22/
LOCATION:Kaposvár Noszlopy Gáspár utca 1.\, Noszlopy Gáspár utca 1.\, Kaposvár\, Somogy\, 7400\, Magyarország
CATEGORIES:Mozi
ATTACH;FMTTYPE=image/jpeg:https://szorakozz.kaposvar.hu/wp-content/uploads/cover/e3/d8/f3/b13d1f623140a8700bd148f4e161c05e2e.jpg
ORGANIZER;CN="Sziv%C3%A1rv%C3%A1ny%20Kult%C3%BArpalota":MAILTO: info@szivarvanymozi.hu
END:VEVENT
END:VCALENDAR